Package: rbsurv Version: 2.58.0 Command: chmod a+r rbsurv -R && F:\biocbuild\bbs-3.17-bioc\R\bin\R.exe CMD build --keep-empty-dirs --no-resave-data rbsurv StartedAt: 2023-10-15 21:39:57 -0400 (Sun, 15 Oct 2023) EndedAt: 2023-10-15 21:40:28 -0400 (Sun, 15 Oct 2023) EllapsedTime: 31.4 seconds RetCode: 0 Status: OK PackageFile: rbsurv_2.58.0.tar.gz PackageFileSize: 255.1 KiB