Package: rbsurv Version: 2.58.0 Command: rm -rf rbsurv.buildbin-libdir && mkdir rbsurv.buildbin-libdir && F:\biocbuild\bbs-3.17-bioc\R\bin\R.exe CMD INSTALL --build --library=rbsurv.buildbin-libdir rbsurv_2.58.0.tar.gz StartedAt: 2023-10-16 09:20:39 -0400 (Mon, 16 Oct 2023) EndedAt: 2023-10-16 09:20:51 -0400 (Mon, 16 Oct 2023) EllapsedTime: 12.1 seconds RetCode: 0 Status: OK PackageFile: rbsurv_2.58.0.zip PackageFileSize: 285.7 KiB