Package: rbsurv Version: 2.58.0 Command: /home/biocbuild/bbs-3.17-bioc/R/bin/R CMD check --install=check:rbsurv.install-out.txt --library=/home/biocbuild/bbs-3.17-bioc/R/site-library --timings rbsurv_2.58.0.tar.gz StartedAt: 2023-10-16 00:15:19 -0400 (Mon, 16 Oct 2023) EndedAt: 2023-10-16 00:16:42 -0400 (Mon, 16 Oct 2023) EllapsedTime: 82.8 seconds RetCode: 0 Status: OK CheckDir: rbsurv.Rcheck Warnings: 0