Package: rbsurv Version: 2.58.0 Command: /home/biocbuild/bbs-3.17-bioc/R/bin/R CMD build --keep-empty-dirs --no-resave-data rbsurv StartedAt: 2023-10-15 18:07:10 -0400 (Sun, 15 Oct 2023) EndedAt: 2023-10-15 18:07:35 -0400 (Sun, 15 Oct 2023) EllapsedTime: 24.9 seconds RetCode: 0 Status: OK PackageFile: rbsurv_2.58.0.tar.gz PackageFileSize: 252.8 KiB