Package: rbsurv Version: 2.58.0 Command: /Library/Frameworks/R.framework/Resources/bin/R CMD check --install=check:rbsurv.install-out.txt --library=/Library/Frameworks/R.framework/Resources/library --no-vignettes --timings rbsurv_2.58.0.tar.gz StartedAt: 2023-10-16 05:50:52 -0400 (Mon, 16 Oct 2023) EndedAt: 2023-10-16 05:53:11 -0400 (Mon, 16 Oct 2023) EllapsedTime: 139.4 seconds RetCode: 0 Status: OK CheckDir: rbsurv.Rcheck Warnings: 0