Package: rbsurv Version: 2.58.0 Command: /Library/Frameworks/R.framework/Resources/bin/R CMD build --keep-empty-dirs --no-resave-data rbsurv StartedAt: 2023-10-15 20:33:10 -0400 (Sun, 15 Oct 2023) EndedAt: 2023-10-15 20:34:22 -0400 (Sun, 15 Oct 2023) EllapsedTime: 72.2 seconds RetCode: 0 Status: OK PackageFile: rbsurv_2.58.0.tar.gz PackageFileSize: 366.7 KiB