Package: rbsurv Version: 2.58.0 Command: rm -rf rbsurv.buildbin-libdir && mkdir rbsurv.buildbin-libdir && /Users/biocbuild/BBS/utils/build-universal.sh rbsurv_2.58.0.tar.gz /Library/Frameworks/R.framework/Resources/bin/R rbsurv.buildbin-libdir StartedAt: 2023-10-16 10:00:30 -0400 (Mon, 16 Oct 2023) EndedAt: 2023-10-16 10:00:53 -0400 (Mon, 16 Oct 2023) EllapsedTime: 23.1 seconds RetCode: 0 Status: OK PackageFile: rbsurv_2.58.0.tgz PackageFileSize: 393.7 KiB