Package: rawrr Version: 1.8.1 Command: /Library/Frameworks/R.framework/Resources/bin/R CMD build --keep-empty-dirs --no-resave-data rawrr StartedAt: 2023-10-15 20:32:00 -0400 (Sun, 15 Oct 2023) EndedAt: 2023-10-15 20:33:38 -0400 (Sun, 15 Oct 2023) EllapsedTime: 98.6 seconds RetCode: 0 Status: OK PackageFile: rawrr_1.8.1.tar.gz PackageFileSize: 1.893 MiB