Package: randRotation Version: 1.12.0 Command: /Library/Frameworks/R.framework/Resources/bin/R CMD INSTALL randRotation StartedAt: 2023-10-15 15:08:32 -0400 (Sun, 15 Oct 2023) EndedAt: 2023-10-15 15:09:14 -0400 (Sun, 15 Oct 2023) EllapsedTime: 42.7 seconds RetCode: 0 Status: OK