Package: randRotation Version: 1.12.0 Command: /Library/Frameworks/R.framework/Resources/bin/R CMD build --keep-empty-dirs --no-resave-data randRotation StartedAt: 2023-10-15 20:31:46 -0400 (Sun, 15 Oct 2023) EndedAt: 2023-10-15 20:36:43 -0400 (Sun, 15 Oct 2023) EllapsedTime: 297.4 seconds RetCode: 0 Status: OK PackageFile: randRotation_1.12.0.tar.gz PackageFileSize: 973.8 KiB