Package: randPack Version: 1.46.0 Command: F:\biocbuild\bbs-3.17-bioc\R\bin\R.exe CMD INSTALL randPack StartedAt: 2023-10-15 15:48:23 -0400 (Sun, 15 Oct 2023) EndedAt: 2023-10-15 15:48:33 -0400 (Sun, 15 Oct 2023) EllapsedTime: 9.9 seconds RetCode: 0 Status: OK