Package: randPack Version: 1.46.0 Command: chmod a+r randPack -R && F:\biocbuild\bbs-3.17-bioc\R\bin\R.exe CMD build --keep-empty-dirs --no-resave-data randPack StartedAt: 2023-10-15 21:37:32 -0400 (Sun, 15 Oct 2023) EndedAt: 2023-10-15 21:37:44 -0400 (Sun, 15 Oct 2023) EllapsedTime: 12.0 seconds RetCode: 0 Status: OK PackageFile: randPack_1.46.0.tar.gz PackageFileSize: 144.5 KiB