Package: randPack Version: 1.46.0 Command: rm -rf randPack.buildbin-libdir && mkdir randPack.buildbin-libdir && F:\biocbuild\bbs-3.17-bioc\R\bin\R.exe CMD INSTALL --build --library=randPack.buildbin-libdir randPack_1.46.0.tar.gz StartedAt: 2023-10-16 09:20:06 -0400 (Mon, 16 Oct 2023) EndedAt: 2023-10-16 09:20:14 -0400 (Mon, 16 Oct 2023) EllapsedTime: 8.1 seconds RetCode: 0 Status: OK PackageFile: randPack_1.46.0.zip PackageFileSize: 350.6 KiB