Package: randPack Version: 1.46.0 Command: /home/biocbuild/bbs-3.17-bioc/R/bin/R CMD build --keep-empty-dirs --no-resave-data randPack StartedAt: 2023-10-15 18:06:06 -0400 (Sun, 15 Oct 2023) EndedAt: 2023-10-15 18:06:14 -0400 (Sun, 15 Oct 2023) EllapsedTime: 7.3 seconds RetCode: 0 Status: OK PackageFile: randPack_1.46.0.tar.gz PackageFileSize: 143.2 KiB