Package: randPack Version: 1.46.0 Command: rm -rf randPack.buildbin-libdir && mkdir randPack.buildbin-libdir && /Users/biocbuild/BBS/utils/build-universal.sh randPack_1.46.0.tar.gz /Library/Frameworks/R.framework/Resources/bin/R randPack.buildbin-libdir StartedAt: 2023-10-16 10:00:01 -0400 (Mon, 16 Oct 2023) EndedAt: 2023-10-16 10:00:15 -0400 (Mon, 16 Oct 2023) EllapsedTime: 14.6 seconds RetCode: 0 Status: OK PackageFile: randPack_1.46.0.tgz PackageFileSize: 454 KiB