Package: ramwas Version: 1.24.0 Command: /Library/Frameworks/R.framework/Resources/bin/R CMD build --keep-empty-dirs --no-resave-data ramwas StartedAt: 2023-10-15 20:31:04 -0400 (Sun, 15 Oct 2023) EndedAt: 2023-10-15 20:39:12 -0400 (Sun, 15 Oct 2023) EllapsedTime: 487.7 seconds RetCode: 0 Status: OK PackageFile: ramwas_1.24.0.tar.gz PackageFileSize: 3.111 MiB