Package: ramr Version: 1.8.0 Command: /Library/Frameworks/R.framework/Resources/bin/R CMD build --keep-empty-dirs --no-resave-data ramr StartedAt: 2023-10-15 20:30:48 -0400 (Sun, 15 Oct 2023) EndedAt: 2023-10-15 20:33:59 -0400 (Sun, 15 Oct 2023) EllapsedTime: 190.8 seconds RetCode: 0 Status: OK PackageFile: ramr_1.8.0.tar.gz PackageFileSize: 2.554 MiB