Package: ramr Version: 1.8.0 Command: rm -rf ramr.buildbin-libdir && mkdir ramr.buildbin-libdir && /Users/biocbuild/BBS/utils/build-universal.sh ramr_1.8.0.tar.gz /Library/Frameworks/R.framework/Resources/bin/R ramr.buildbin-libdir StartedAt: 2023-10-16 09:59:47 -0400 (Mon, 16 Oct 2023) EndedAt: 2023-10-16 10:00:33 -0400 (Mon, 16 Oct 2023) EllapsedTime: 46.0 seconds RetCode: 0 Status: OK PackageFile: ramr_1.8.0.tgz PackageFileSize: 2.586 MiB