Package: rain Version: 1.34.0 Command: /Library/Frameworks/R.framework/Resources/bin/R CMD build --keep-empty-dirs --no-resave-data rain StartedAt: 2023-10-15 20:30:48 -0400 (Sun, 15 Oct 2023) EndedAt: 2023-10-15 20:32:00 -0400 (Sun, 15 Oct 2023) EllapsedTime: 71.3 seconds RetCode: 0 Status: OK PackageFile: rain_1.34.0.tar.gz PackageFileSize: 604.3 KiB