Package: rTRMui Version: 1.38.0 Command: rm -rf rTRMui.buildbin-libdir && mkdir rTRMui.buildbin-libdir && F:\biocbuild\bbs-3.17-bioc\R\bin\R.exe CMD INSTALL --build --library=rTRMui.buildbin-libdir rTRMui_1.38.0.tar.gz StartedAt: 2023-10-16 09:27:10 -0400 (Mon, 16 Oct 2023) EndedAt: 2023-10-16 09:28:07 -0400 (Mon, 16 Oct 2023) EllapsedTime: 57.7 seconds RetCode: 0 Status: OK PackageFile: rTRMui_1.38.0.zip PackageFileSize: 742.5 KiB