Package: rTRM Version: 1.38.0 Command: /home/biocbuild/bbs-3.17-bioc/R/bin/R CMD INSTALL rTRM StartedAt: 2023-10-15 15:17:38 -0400 (Sun, 15 Oct 2023) EndedAt: 2023-10-15 15:17:55 -0400 (Sun, 15 Oct 2023) EllapsedTime: 16.8 seconds RetCode: 0 Status: OK