Package: rTRM Version: 1.38.0 Command: /home/biocbuild/bbs-3.17-bioc/R/bin/R CMD check --install=check:rTRM.install-out.txt --library=/home/biocbuild/bbs-3.17-bioc/R/site-library --timings rTRM_1.38.0.tar.gz StartedAt: 2023-10-16 00:40:29 -0400 (Mon, 16 Oct 2023) EndedAt: 2023-10-16 00:42:43 -0400 (Mon, 16 Oct 2023) EllapsedTime: 133.5 seconds RetCode: 0 Status: OK CheckDir: rTRM.Rcheck Warnings: 0