Package: rTRM Version: 1.38.0 Command: /home/biocbuild/bbs-3.17-bioc/R/bin/R CMD build --keep-empty-dirs --no-resave-data rTRM StartedAt: 2023-10-15 18:19:36 -0400 (Sun, 15 Oct 2023) EndedAt: 2023-10-15 18:20:27 -0400 (Sun, 15 Oct 2023) EllapsedTime: 50.8 seconds RetCode: 0 Status: OK PackageFile: rTRM_1.38.0.tar.gz PackageFileSize: 3.585 MiB