Package: rTRM Version: 1.38.0 Command: rm -rf rTRM.buildbin-libdir && mkdir rTRM.buildbin-libdir && /Users/biocbuild/BBS/utils/build-universal.sh rTRM_1.38.0.tar.gz /Library/Frameworks/R.framework/Resources/bin/R rTRM.buildbin-libdir StartedAt: 2023-10-16 10:07:42 -0400 (Mon, 16 Oct 2023) EndedAt: 2023-10-16 10:08:41 -0400 (Mon, 16 Oct 2023) EllapsedTime: 59.2 seconds RetCode: 0 Status: OK PackageFile: rTRM_1.38.0.tgz PackageFileSize: 3.435 MiB