Package: rSWeeP Version: 1.12.0 Command: /home/biocbuild/bbs-3.17-bioc/R/bin/R CMD build --keep-empty-dirs --no-resave-data rSWeeP StartedAt: 2023-10-15 18:18:53 -0400 (Sun, 15 Oct 2023) EndedAt: 2023-10-15 18:19:03 -0400 (Sun, 15 Oct 2023) EllapsedTime: 10.6 seconds RetCode: 0 Status: OK PackageFile: rSWeeP_1.12.0.tar.gz PackageFileSize: 1.833 MiB