Package: rSWeeP Version: 1.12.0 Command: rm -rf rSWeeP.buildbin-libdir && mkdir rSWeeP.buildbin-libdir && /Users/biocbuild/BBS/utils/build-universal.sh rSWeeP_1.12.0.tar.gz /Library/Frameworks/R.framework/Resources/bin/R rSWeeP.buildbin-libdir StartedAt: 2023-10-16 10:07:04 -0400 (Mon, 16 Oct 2023) EndedAt: 2023-10-16 10:07:12 -0400 (Mon, 16 Oct 2023) EllapsedTime: 7.4 seconds RetCode: 0 Status: OK PackageFile: rSWeeP_1.12.0.tgz PackageFileSize: 1.848 MiB