Package: rRDP Version: 1.34.0 Command: F:\biocbuild\bbs-3.17-bioc\R\bin\R.exe CMD INSTALL rRDP StartedAt: 2023-10-15 15:55:56 -0400 (Sun, 15 Oct 2023) EndedAt: 2023-10-15 15:56:12 -0400 (Sun, 15 Oct 2023) EllapsedTime: 15.5 seconds RetCode: 0 Status: OK