Package: rRDP Version: 1.34.0 Command: rm -rf rRDP.buildbin-libdir && mkdir rRDP.buildbin-libdir && F:\biocbuild\bbs-3.17-bioc\R\bin\R.exe CMD INSTALL --build --library=rRDP.buildbin-libdir rRDP_1.34.0.tar.gz StartedAt: 2023-10-16 09:26:20 -0400 (Mon, 16 Oct 2023) EndedAt: 2023-10-16 09:26:35 -0400 (Mon, 16 Oct 2023) EllapsedTime: 15.5 seconds RetCode: 0 Status: OK PackageFile: rRDP_1.34.0.zip PackageFileSize: 1.565 MiB