Package: rGenomeTracks Version: 1.6.0 Command: /home/biocbuild/bbs-3.17-bioc/R/bin/R CMD INSTALL rGenomeTracks StartedAt: 2023-10-15 15:50:24 -0400 (Sun, 15 Oct 2023) EndedAt: 2023-10-15 15:50:31 -0400 (Sun, 15 Oct 2023) EllapsedTime: 7.4 seconds RetCode: 0 Status: OK