Package: rGREAT Version: 2.2.0 Command: chmod a+r rGREAT -R && F:\biocbuild\bbs-3.17-bioc\R\bin\R.exe CMD build --keep-empty-dirs --no-resave-data rGREAT StartedAt: 2023-10-15 21:46:33 -0400 (Sun, 15 Oct 2023) EndedAt: 2023-10-15 21:50:44 -0400 (Sun, 15 Oct 2023) EllapsedTime: 251.0 seconds RetCode: 0 Status: OK PackageFile: rGREAT_2.2.0.tar.gz PackageFileSize: 4.274 MiB