Package: rGREAT Version: 2.2.0 Command: /home/biocbuild/bbs-3.17-bioc/R/bin/R CMD build --keep-empty-dirs --no-resave-data rGREAT StartedAt: 2023-10-15 18:11:34 -0400 (Sun, 15 Oct 2023) EndedAt: 2023-10-15 18:14:06 -0400 (Sun, 15 Oct 2023) EllapsedTime: 151.9 seconds RetCode: 0 Status: OK PackageFile: rGREAT_2.2.0.tar.gz PackageFileSize: 4.567 MiB