Package: rGREAT Version: 2.2.0 Command: /Library/Frameworks/R.framework/Resources/bin/R CMD INSTALL rGREAT StartedAt: 2023-10-15 15:46:29 -0400 (Sun, 15 Oct 2023) EndedAt: 2023-10-15 15:49:08 -0400 (Sun, 15 Oct 2023) EllapsedTime: 158.8 seconds RetCode: 0 Status: OK