Package: rGREAT Version: 2.2.0 Command: /Library/Frameworks/R.framework/Resources/bin/R CMD check --install=check:rGREAT.install-out.txt --library=/Library/Frameworks/R.framework/Resources/library --no-vignettes --timings rGREAT_2.2.0.tar.gz StartedAt: 2023-10-16 06:02:49 -0400 (Mon, 16 Oct 2023) EndedAt: 2023-10-16 06:14:56 -0400 (Mon, 16 Oct 2023) EllapsedTime: 726.9 seconds RetCode: 0 Status: OK CheckDir: rGREAT.Rcheck Warnings: 0