Package: rGREAT Version: 2.2.0 Command: /Library/Frameworks/R.framework/Resources/bin/R CMD build --keep-empty-dirs --no-resave-data rGREAT StartedAt: 2023-10-15 20:40:10 -0400 (Sun, 15 Oct 2023) EndedAt: 2023-10-15 20:46:03 -0400 (Sun, 15 Oct 2023) EllapsedTime: 353.1 seconds RetCode: 0 Status: OK PackageFile: rGREAT_2.2.0.tar.gz PackageFileSize: 4.648 MiB