Package: rGREAT Version: 2.2.0 Command: rm -rf rGREAT.buildbin-libdir && mkdir rGREAT.buildbin-libdir && /Users/biocbuild/BBS/utils/build-universal.sh rGREAT_2.2.0.tar.gz /Library/Frameworks/R.framework/Resources/bin/R rGREAT.buildbin-libdir StartedAt: 2023-10-16 10:03:02 -0400 (Mon, 16 Oct 2023) EndedAt: 2023-10-16 10:05:57 -0400 (Mon, 16 Oct 2023) EllapsedTime: 175.1 seconds RetCode: 0 Status: OK PackageFile: rGREAT_2.2.0.tgz PackageFileSize: 5.295 MiB