Package: rGADEM Version: 2.48.0 Command: F:\biocbuild\bbs-3.17-bioc\R\bin\R.exe CMD check --no-multiarch --install=check:rGADEM.install-out.txt --library=F:\biocbuild\bbs-3.17-bioc\R\library --no-vignettes --timings rGADEM_2.48.0.tar.gz StartedAt: 2023-10-16 05:54:59 -0400 (Mon, 16 Oct 2023) EndedAt: 2023-10-16 05:59:38 -0400 (Mon, 16 Oct 2023) EllapsedTime: 279.1 seconds RetCode: 0 Status: OK CheckDir: rGADEM.Rcheck Warnings: 0