Package: rGADEM Version: 2.48.0 Command: /Library/Frameworks/R.framework/Resources/bin/R CMD build --keep-empty-dirs --no-resave-data rGADEM StartedAt: 2023-10-15 20:39:38 -0400 (Sun, 15 Oct 2023) EndedAt: 2023-10-15 20:41:55 -0400 (Sun, 15 Oct 2023) EllapsedTime: 136.2 seconds RetCode: 0 Status: OK PackageFile: rGADEM_2.48.0.tar.gz PackageFileSize: 377 KiB