git_url: https://git.bioconductor.org/packages/rDGIdb git_branch: RELEASE_3_17 git_last_commit: 2246478 git_last_commit_date: 2023-04-25 10:48:17 -0400 (Tue, 25 Apr 2023) Package: rDGIdb Version: 1.26.0 Maintainer: Lars Bosshard MaintainerEmail: bosshard at nexus.ethz.ch