Package: rCGH Version: 1.30.0 Command: chmod a+r rCGH -R && F:\biocbuild\bbs-3.17-bioc\R\bin\R.exe CMD build --keep-empty-dirs --no-resave-data rCGH StartedAt: 2023-10-15 21:40:22 -0400 (Sun, 15 Oct 2023) EndedAt: 2023-10-15 21:42:21 -0400 (Sun, 15 Oct 2023) EllapsedTime: 118.9 seconds RetCode: 0 Status: OK PackageFile: rCGH_1.30.0.tar.gz PackageFileSize: 3.743 MiB