Package: rCGH Version: 1.30.0 Command: /home/biocbuild/bbs-3.17-bioc/R/bin/R CMD check --install=check:rCGH.install-out.txt --library=/home/biocbuild/bbs-3.17-bioc/R/site-library --timings rCGH_1.30.0.tar.gz StartedAt: 2023-10-16 00:15:39 -0400 (Mon, 16 Oct 2023) EndedAt: 2023-10-16 00:22:45 -0400 (Mon, 16 Oct 2023) EllapsedTime: 426.1 seconds RetCode: 0 Status: OK CheckDir: rCGH.Rcheck Warnings: 0