Package: rCGH Version: 1.30.0 Command: /Library/Frameworks/R.framework/Resources/bin/R CMD build --keep-empty-dirs --no-resave-data rCGH StartedAt: 2023-10-15 20:33:49 -0400 (Sun, 15 Oct 2023) EndedAt: 2023-10-15 20:37:09 -0400 (Sun, 15 Oct 2023) EllapsedTime: 199.9 seconds RetCode: 0 Status: OK PackageFile: rCGH_1.30.0.tar.gz PackageFileSize: 3.986 MiB