Package: r3Cseq Version: 1.46.0 Command: F:\biocbuild\bbs-3.17-bioc\R\bin\R.exe CMD INSTALL r3Cseq StartedAt: 2023-10-15 16:11:03 -0400 (Sun, 15 Oct 2023) EndedAt: 2023-10-15 16:12:01 -0400 (Sun, 15 Oct 2023) EllapsedTime: 58.5 seconds RetCode: 0 Status: OK