Package: r3Cseq Version: 1.46.0 Command: chmod a+r r3Cseq -R && F:\biocbuild\bbs-3.17-bioc\R\bin\R.exe CMD build --keep-empty-dirs --no-resave-data r3Cseq StartedAt: 2023-10-15 21:35:55 -0400 (Sun, 15 Oct 2023) EndedAt: 2023-10-15 21:41:01 -0400 (Sun, 15 Oct 2023) EllapsedTime: 305.4 seconds RetCode: 0 Status: OK PackageFile: r3Cseq_1.46.0.tar.gz PackageFileSize: 4.161 MiB