Package: r3Cseq Version: 1.46.0 Command: rm -rf r3Cseq.buildbin-libdir && mkdir r3Cseq.buildbin-libdir && F:\biocbuild\bbs-3.17-bioc\R\bin\R.exe CMD INSTALL --build --library=r3Cseq.buildbin-libdir r3Cseq_1.46.0.tar.gz StartedAt: 2023-10-16 09:19:44 -0400 (Mon, 16 Oct 2023) EndedAt: 2023-10-16 09:20:42 -0400 (Mon, 16 Oct 2023) EllapsedTime: 58.3 seconds RetCode: 0 Status: OK PackageFile: r3Cseq_1.46.0.zip PackageFileSize: 2.782 MiB