Package: r3Cseq Version: 1.46.0 Command: /Library/Frameworks/R.framework/Resources/bin/R CMD check --install=check:r3Cseq.install-out.txt --library=/Library/Frameworks/R.framework/Resources/library --no-vignettes --timings r3Cseq_1.46.0.tar.gz StartedAt: 2023-10-16 05:44:55 -0400 (Mon, 16 Oct 2023) EndedAt: 2023-10-16 05:54:36 -0400 (Mon, 16 Oct 2023) EllapsedTime: 580.5 seconds RetCode: 0 Status: OK CheckDir: r3Cseq.Rcheck Warnings: 0