Package: qvalue Version: 2.32.0 Command: /home/biocbuild/bbs-3.17-bioc/R/bin/R CMD build --keep-empty-dirs --no-resave-data qvalue StartedAt: 2023-10-15 18:05:06 -0400 (Sun, 15 Oct 2023) EndedAt: 2023-10-15 18:05:17 -0400 (Sun, 15 Oct 2023) EllapsedTime: 11.3 seconds RetCode: 0 Status: OK PackageFile: qvalue_2.32.0.tar.gz PackageFileSize: 2.64 MiB