Package: qvalue Version: 2.32.0 Command: /Library/Frameworks/R.framework/Resources/bin/R CMD build --keep-empty-dirs --no-resave-data qvalue StartedAt: 2023-10-15 20:29:56 -0400 (Sun, 15 Oct 2023) EndedAt: 2023-10-15 20:30:36 -0400 (Sun, 15 Oct 2023) EllapsedTime: 39.4 seconds RetCode: 0 Status: OK PackageFile: qvalue_2.32.0.tar.gz PackageFileSize: 2.646 MiB