Package: qvalue Version: 2.32.0 Command: rm -rf qvalue.buildbin-libdir && mkdir qvalue.buildbin-libdir && /Users/biocbuild/BBS/utils/build-universal.sh qvalue_2.32.0.tar.gz /Library/Frameworks/R.framework/Resources/bin/R qvalue.buildbin-libdir StartedAt: 2023-10-16 09:59:28 -0400 (Mon, 16 Oct 2023) EndedAt: 2023-10-16 09:59:47 -0400 (Mon, 16 Oct 2023) EllapsedTime: 19.2 seconds RetCode: 0 Status: OK PackageFile: qvalue_2.32.0.tgz PackageFileSize: 2.68 MiB