Package: qusage Version: 2.34.0 Command: rm -rf qusage.buildbin-libdir && mkdir qusage.buildbin-libdir && F:\biocbuild\bbs-3.17-bioc\R\bin\R.exe CMD INSTALL --build --library=qusage.buildbin-libdir qusage_2.34.0.tar.gz StartedAt: 2023-10-16 09:19:34 -0400 (Mon, 16 Oct 2023) EndedAt: 2023-10-16 09:19:54 -0400 (Mon, 16 Oct 2023) EllapsedTime: 20.5 seconds RetCode: 0 Status: OK PackageFile: qusage_2.34.0.zip PackageFileSize: 9.664 MiB