Package: qusage Version: 2.34.0 Command: /home/biocbuild/bbs-3.17-bioc/R/bin/R CMD build --keep-empty-dirs --no-resave-data qusage StartedAt: 2023-10-15 18:04:56 -0400 (Sun, 15 Oct 2023) EndedAt: 2023-10-15 18:09:35 -0400 (Sun, 15 Oct 2023) EllapsedTime: 279.3 seconds RetCode: 0 Status: OK PackageFile: qusage_2.34.0.tar.gz PackageFileSize: 9.476 MiB